BEGIN:VCALENDAR
VERSION:2.0
PRODID:-//Assomption Bordeaux - ECPv6.15.20//NONSGML v1.0//EN
CALSCALE:GREGORIAN
METHOD:PUBLISH
X-WR-CALNAME:Assomption Bordeaux
X-ORIGINAL-URL:https://assomption-bordeaux.com
X-WR-CALDESC:Évènements pour Assomption Bordeaux
REFRESH-INTERVAL;VALUE=DURATION:PT1H
X-Robots-Tag:noindex
X-PUBLISHED-TTL:PT1H
BEGIN:VTIMEZONE
TZID:Europe/Paris
BEGIN:DAYLIGHT
TZOFFSETFROM:+0100
TZOFFSETTO:+0200
TZNAME:CEST
DTSTART:20230326T010000
END:DAYLIGHT
BEGIN:STANDARD
TZOFFSETFROM:+0200
TZOFFSETTO:+0100
TZNAME:CET
DTSTART:20231029T010000
END:STANDARD
BEGIN:DAYLIGHT
TZOFFSETFROM:+0100
TZOFFSETTO:+0200
TZNAME:CEST
DTSTART:20240331T010000
END:DAYLIGHT
BEGIN:STANDARD
TZOFFSETFROM:+0200
TZOFFSETTO:+0100
TZNAME:CET
DTSTART:20241027T010000
END:STANDARD
BEGIN:DAYLIGHT
TZOFFSETFROM:+0100
TZOFFSETTO:+0200
TZNAME:CEST
DTSTART:20250330T010000
END:DAYLIGHT
BEGIN:STANDARD
TZOFFSETFROM:+0200
TZOFFSETTO:+0100
TZNAME:CET
DTSTART:20251026T010000
END:STANDARD
BEGIN:DAYLIGHT
TZOFFSETFROM:+0100
TZOFFSETTO:+0200
TZNAME:CEST
DTSTART:20260329T010000
END:DAYLIGHT
BEGIN:STANDARD
TZOFFSETFROM:+0200
TZOFFSETTO:+0100
TZNAME:CET
DTSTART:20261025T010000
END:STANDARD
BEGIN:DAYLIGHT
TZOFFSETFROM:+0100
TZOFFSETTO:+0200
TZNAME:CEST
DTSTART:20270328T010000
END:DAYLIGHT
BEGIN:STANDARD
TZOFFSETFROM:+0200
TZOFFSETTO:+0100
TZNAME:CET
DTSTART:20271031T010000
END:STANDARD
END:VTIMEZONE
BEGIN:VEVENT
DTSTART;TZID=Europe/Paris:20260314T090000
DTEND;TZID=Europe/Paris:20260314T130000
DTSTAMP:20260424T180539
CREATED:20250905T103632Z
LAST-MODIFIED:20250905T103632Z
UID:4760-1773478800-1773493200@assomption-bordeaux.com
SUMMARY:Journée Porte Ouverte
DESCRIPTION:🎉 Journée de découverte à l’Assomption Sainte Clotilde\nNous vous invitons à partager une journée de découverte au sein de notre établissement ! \nAu programme : \n\n\nExposition des réalisations des élèves\, témoignant de leur créativité et de leur engagement. \n\n\nRencontres et présentations animées par les professeurs\, pour mieux comprendre les projets et la dynamique pédagogique de notre ensemble scolaire. \n\n\nÉchanges conviviaux portés par l’enthousiasme de toute la communauté éducative. \n\n\n👉 Une belle occasion de découvrir notre environnement scolaire\, nos valeurs et la richesse des initiatives menées au quotidien.
URL:https://assomption-bordeaux.com/evenement/journee-porte-ouverte/
LOCATION:Ensemble scolaire Assomption Sainte Clotilde\, 370 boulevard du Président Wilson\, Bordeaux\, France
ATTACH;FMTTYPE=image/png:https://assomption-bordeaux.com/wp-content/uploads/2025/09/JPO-2026.png
END:VEVENT
BEGIN:VEVENT
DTSTART;TZID=Europe/Paris:20260109T090000
DTEND;TZID=Europe/Paris:20260111T170000
DTSTAMP:20260424T180539
CREATED:20260109T085434Z
LAST-MODIFIED:20260109T085434Z
UID:5149-1767949200-1768150800@assomption-bordeaux.com
SUMMARY:Le campus Wilson au salon de l'Etudiant
DESCRIPTION:𝗥𝗲𝘁𝗿𝗼𝘂𝘃𝗲𝘇-𝗻𝗼𝘂𝘀 𝗮𝘂 𝗦𝗮𝗹𝗼𝗻 de l’Etudiant 𝗱𝘂 𝘃𝗲𝗻𝗱𝗿𝗲𝗱𝗶 𝟵 𝗮𝘂 𝗱𝗶𝗺𝗮𝗻𝗰𝗵𝗲 𝟭𝟭 𝗷𝗮𝗻𝘃𝗶𝗲𝗿 ! \nhttps://salon-de-l-etudiant-bordeaux.salon.letudiant.fr/ \nNotre campus sera présent au Parc des Expositions du vendredi 9 au dimanche 11 janvier pour vous faire découvrir ses formations et échanger sur vos projets d’orientation et d’évolution professionnelle. \n🎓 Formations présentées :\nBAC+3 Responsable Zone Import Export\nBAC+3 Responsable Projet Marketing et Communication\nBTS Commerce International\nBTS Management Commercial Opérationnel \nNos équipes pédagogiques et nos étudiants seront ravis de vous accueillir\, de partager leur expérience et de répondre à toutes vos questions. \nUn grand merci aux enseignants et aux étudiants mobilisés pour représenter le campus et faire vivre cet événement. \nVenez nous rencontrer et construire votre avenir avec nous ! \n  \nCampus étudiant
URL:https://assomption-bordeaux.com/evenement/le-campus-wilson-au-salon-de-letudiant/
LOCATION:Parc des exposition Bordeaux\, Cours Charles Bricaud\, Bordeaux\, 33000\, France
END:VEVENT
BEGIN:VEVENT
DTSTART;TZID=Europe/Paris:20250926T180000
DTEND;TZID=Europe/Paris:20250926T200000
DTSTAMP:20260424T180539
CREATED:20250918T134509Z
LAST-MODIFIED:20250918T134509Z
UID:4810-1758909600-1758916800@assomption-bordeaux.com
SUMMARY:Messe de rentrée de l'ensemble scolaire
DESCRIPTION:La communauté éducative de l’ensemble scolaire Assomption Sainte-Clotilde a le plaisir de vous inviter à sa messe de rentrée\, qui se tiendra : \n📅 Vendredi 26 septembre🕕 18h00📍 Chapelle du lycée \nLa célébration aura pour thème :« Venez\, montons à la montagne du Seigneur » (Isaïe 2\,3). \nCette messe sera suivie d’un temps convivial pour partager un moment fraternel et chaleureux en ce début d’année. \nParents\, élèves\, enseignants\, personnels et amis de l’établissement sont chaleureusement conviés à participer à ce temps fort qui marquera le lancement de notre année scolaire.
URL:https://assomption-bordeaux.com/evenement/messe-de-rentree-de-lensemble-scolaire/
CATEGORIES:Ensemble scolaire
ATTACH;FMTTYPE=image/jpeg:https://assomption-bordeaux.com/wp-content/uploads/2025/09/Messe-de-rentree-de-l_ensemble-scolai-re-Assomption-Ste-Clotilde-2-1_page-0001.jpg
END:VEVENT
BEGIN:VEVENT
DTSTART;TZID=Europe/Paris:20250920T090000
DTEND;TZID=Europe/Paris:20250920T140000
DTSTAMP:20260424T180539
CREATED:20250910T090819Z
LAST-MODIFIED:20250910T090819Z
UID:4774-1758358800-1758376800@assomption-bordeaux.com
SUMMARY:Journée Européenne du Matrimoine
DESCRIPTION:La Chapelle de l’Assomption vous ouvre ses portes !\nÀ l’occasion des Journées Européennes du Patrimoine\, venez découvrir ce joyau du patrimoine spirituel et architectural bordelais. \nÉdifiée au XIXe siècle\, la chapelle se distingue par son style néogothique épuré\, tout en élévation et en sobriété. Vitraux colorés\, voûtes élancées\, et détails sculptés vous plongeront dans une atmosphère paisible et inspirante. \nUn guide vous accompagnera pour explorer l’histoire du lieu\, sa symbolique et la richesse de son décor intérieur. \nGratuit. Départ des visites guidées : 9h\, 10h\, 11h et 13h\, 14h.
URL:https://assomption-bordeaux.com/evenement/journee-europeenne-du-matrimoine/
LOCATION:Ensemble scolaire Assomption Sainte Clotilde\, 370 boulevard du Président Wilson\, Bordeaux\, France
ATTACH;FMTTYPE=image/png:https://assomption-bordeaux.com/wp-content/uploads/2025/09/JEP.png
END:VEVENT
BEGIN:VEVENT
DTSTART;TZID=Europe/Paris:20250908T080000
DTEND;TZID=Europe/Paris:20250930T174500
DTSTAMP:20260424T180539
CREATED:20250905T102442Z
LAST-MODIFIED:20250905T102647Z
UID:4754-1757318400-1759254300@assomption-bordeaux.com
SUMMARY:Retrait des dossiers de demande d'inscription 2026 - 2027
DESCRIPTION:Les dossiers de demande d’inscription rentrée 2026 -2027 pour les classes de 6ème et de 2nde sont disponibles au secrétariat du lycée\, situé au 370 Boulevard du Président Wilson.
URL:https://assomption-bordeaux.com/evenement/dossier-inscription-6eme-et-2nde-rentree-2026-2027-bordeaux/
LOCATION:Secrétariat du lycée\, 370 boulevard du Président Wilson\, Bordeaux\, France
CATEGORIES:Ensemble scolaire
ATTACH;FMTTYPE=image/png:https://assomption-bordeaux.com/wp-content/uploads/2025/09/INSCRPTION-2026-2027.png
END:VEVENT
BEGIN:VEVENT
DTSTART;VALUE=DATE:20250317
DTEND;VALUE=DATE:20250318
DTSTAMP:20260424T180539
CREATED:20250121T151539Z
LAST-MODIFIED:20250121T151547Z
UID:2528-1742169600-1742255999@assomption-bordeaux.com
SUMMARY:Saint Patrick pour les CM2 et 6ème Section Internationale
DESCRIPTION:
URL:https://assomption-bordeaux.com/evenement/saint-patrick-pour-les-cm2-et-6eme-section-internationale/
CATEGORIES:Collège,École
END:VEVENT
BEGIN:VEVENT
DTSTART;VALUE=DATE:20250314
DTEND;VALUE=DATE:20250316
DTSTAMP:20260424T180539
CREATED:20250121T152257Z
LAST-MODIFIED:20250121T152258Z
UID:2540-1741910400-1742083199@assomption-bordeaux.com
SUMMARY:Salon de l’étudiant Alternance au hangar 14\, 173 quais des chartrons Bordeaux.
DESCRIPTION:
URL:https://assomption-bordeaux.com/evenement/salon-de-letudiant-alternance-au-hangar-14-173-quais-des-chartrons-bordeaux/
LOCATION:hangar 14\, 173 quais des chartrons Bordeaux\, 173 quais des chartrons\, Bordeaux\, France
CATEGORIES:Campus
END:VEVENT
BEGIN:VEVENT
DTSTART;VALUE=DATE:20250310
DTEND;VALUE=DATE:20250311
DTSTAMP:20260424T180539
CREATED:20250121T151413Z
LAST-MODIFIED:20250121T151756Z
UID:2525-1741564800-1741651199@assomption-bordeaux.com
SUMMARY:Fête de sainte Marie-Eugénie
DESCRIPTION:
URL:https://assomption-bordeaux.com/evenement/fete-de-sainte-marie-eugenie/
LOCATION:École Assomption Bordeaux\, Rue Sainte Germaine\, Bordeaux\, 33073\, France
CATEGORIES:Campus,Collège,École,Ensemble scolaire,Lycée
END:VEVENT
BEGIN:VEVENT
DTSTART;VALUE=DATE:20250219
DTEND;VALUE=DATE:20250221
DTSTAMP:20260424T180539
CREATED:20250121T152006Z
LAST-MODIFIED:20250121T152006Z
UID:2534-1739923200-1740095999@assomption-bordeaux.com
SUMMARY:Retraite profession de foi - 1ère communion et baptêmes
DESCRIPTION:
URL:https://assomption-bordeaux.com/evenement/retraite-profession-de-foi-1ere-communion-et-baptemes/
CATEGORIES:Collège
END:VEVENT
BEGIN:VEVENT
DTSTART;TZID=Europe/Paris:20250215T090000
DTEND;TZID=Europe/Paris:20250215T143000
DTSTAMP:20260424T180539
CREATED:20250121T152116Z
LAST-MODIFIED:20250121T152125Z
UID:2537-1739610000-1739629800@assomption-bordeaux.com
SUMMARY:JPO Lycée
DESCRIPTION:
URL:https://assomption-bordeaux.com/evenement/samedi-15-fevrier-jpo-lycee-9h-14h30/
CATEGORIES:Lycée
END:VEVENT
BEGIN:VEVENT
DTSTART;TZID=Europe/Paris:20250215T090000
DTEND;TZID=Europe/Paris:20250215T140000
DTSTAMP:20260424T180539
CREATED:20250121T151931Z
LAST-MODIFIED:20250121T151931Z
UID:2532-1739610000-1739628000@assomption-bordeaux.com
SUMMARY:JPO Collège 9h - 14h30
DESCRIPTION:
URL:https://assomption-bordeaux.com/evenement/jpo-college-9h-14h30/
CATEGORIES:Collège
END:VEVENT
BEGIN:VEVENT
DTSTART;TZID=Europe/Paris:20250215T090000
DTEND;TZID=Europe/Paris:20250215T120000
DTSTAMP:20260424T180539
CREATED:20241223T105354Z
LAST-MODIFIED:20250121T151815Z
UID:2298-1739610000-1739620800@assomption-bordeaux.com
SUMMARY:JPO école
DESCRIPTION:
URL:https://assomption-bordeaux.com/evenement/jpo-ecole/
LOCATION:École Assomption Bordeaux\, Rue Sainte Germaine\, Bordeaux\, 33073\, France
CATEGORIES:École
ATTACH;FMTTYPE=image/png:https://assomption-bordeaux.com/wp-content/uploads/2024/12/JPO-BANDEAU-1.png
END:VEVENT
BEGIN:VEVENT
DTSTART;VALUE=DATE:20250207
DTEND;VALUE=DATE:20250208
DTSTAMP:20260424T180539
CREATED:20250121T151702Z
LAST-MODIFIED:20250121T151828Z
UID:2530-1738886400-1738972799@assomption-bordeaux.com
SUMMARY:Concours d’éloquence
DESCRIPTION:
URL:https://assomption-bordeaux.com/evenement/concours-deloquence/
CATEGORIES:Collège
END:VEVENT
BEGIN:VEVENT
DTSTART;TZID=Europe/Paris:20241120T080000
DTEND;TZID=Europe/Paris:20241120T170000
DTSTAMP:20260424T180539
CREATED:20241120T124349Z
LAST-MODIFIED:20250121T151843Z
UID:1751-1732089600-1732122000@assomption-bordeaux.com
SUMMARY:Rentrée des classes
DESCRIPTION:
URL:https://assomption-bordeaux.com/evenement/rentree-des-classes/
END:VEVENT
END:VCALENDAR